BEGIN:VCALENDAR
VERSION:2.0
PRODID:-//wp-events-plugin.com//7.2.3.1//EN
TZID:Europe/Paris
X-WR-TIMEZONE:Europe/Paris
BEGIN:VEVENT
UID:52@remouille.fr
DTSTART;TZID=Europe/Paris;VALUE=DATE:20240921
DTEND;TZID=Europe/Paris;VALUE=DATE:20240922
DTSTAMP:20240913T072344Z
URL:https://www.remouille.fr/agenda/journees-europeennes-du-patrimoine-ouv
 erture-nettoyage-citoyen-de-la-chapelle-sainte-marguerite/
SUMMARY:JOURNÉES EUROPÉENNES DU PATRIMOINE : OUVERTURE & NETTOYAGE CITOYE
 N DE LA CHAPELLE SAINTE MARGUERITE
DESCRIPTION:\n\n\n\nLe patrimoine de Remouillé est riche et\, en marge de 
 l’œuvre de Jean Pierre GARREAU\, de nombreux lieux et monuments mérite
 nt d’être mis en valeur. Vous avez été nombreux(es) à apprécier dé
 couvrir ou redécouvrir la Chapelle Sainte Marguerite pendant le PARADISE 
 FEST en juin 2023.\n\nÀ l'occasion des Journées Européennes du Patrimoi
 ne qui se dérouleront les 21 et 22 Septembre\, la commission Culture vous
  propose de participer à son nettoyage et à son fleurissement samedi mat
 in 21 Septembre.\n\n\n\n\n\nSi vous souhaitez prendre part à cette initia
 tive\, venez nous retrouver entre 10h et 12h devant la Chapelle (Rue Pierr
 e GARREAU face au logement du Clos d’Arsène) munis de seaux\, serpilli
 ères\, balais\, aspirateur\, échelles\, têtes de loup\, fleurs de vos j
 ardins et tout ce qui peut rendre à cette chapelle son éclat.\n\n\nUn ve
 rre de l’amitié clôturera cette belle matinée avec tous les bénévol
 es.\n\n\n\nA l’issue de cette mise en beauté\, les portes de la chapell
 e seront ouvertes à tous pour des visites libres :\n• Samedi 21 septemb
 re après-midi de 14h00 à 18h00\n• Dimanche 22 Septembre de 10h00 à 12
 h00 et de 14h00 à 18h00\n
ATTACH;FMTTYPE=image/jpeg:https://www.remouille.fr/wp-content/uploads/2024
 /09/8-Chapelle-Ste-Marguerite2.jpg
CATEGORIES:Évènements de la Municipalité
END:VEVENT
BEGIN:VTIMEZONE
TZID:Europe/Paris
X-LIC-LOCATION:Europe/Paris
BEGIN:DAYLIGHT
DTSTART:20240331T030000
TZOFFSETFROM:+0100
TZOFFSETTO:+0200
TZNAME:CEST
END:DAYLIGHT
END:VTIMEZONE
END:VCALENDAR